BEGIN:VCALENDAR
VERSION:2.0
PRODID:-//Gayton Parish Council - ECPv6.15.18//NONSGML v1.0//EN
CALSCALE:GREGORIAN
METHOD:PUBLISH
X-ORIGINAL-URL:https://gaytonparishcouncil.gov.uk
X-WR-CALDESC:Events for Gayton Parish Council
REFRESH-INTERVAL;VALUE=DURATION:PT1H
X-Robots-Tag:noindex
X-PUBLISHED-TTL:PT1H
BEGIN:VTIMEZONE
TZID:Europe/London
BEGIN:DAYLIGHT
TZOFFSETFROM:+0000
TZOFFSETTO:+0100
TZNAME:BST
DTSTART:20240331T010000
END:DAYLIGHT
BEGIN:STANDARD
TZOFFSETFROM:+0100
TZOFFSETTO:+0000
TZNAME:GMT
DTSTART:20241027T010000
END:STANDARD
BEGIN:DAYLIGHT
TZOFFSETFROM:+0000
TZOFFSETTO:+0100
TZNAME:BST
DTSTART:20250330T010000
END:DAYLIGHT
BEGIN:STANDARD
TZOFFSETFROM:+0100
TZOFFSETTO:+0000
TZNAME:GMT
DTSTART:20251026T010000
END:STANDARD
BEGIN:DAYLIGHT
TZOFFSETFROM:+0000
TZOFFSETTO:+0100
TZNAME:BST
DTSTART:20260329T010000
END:DAYLIGHT
BEGIN:STANDARD
TZOFFSETFROM:+0100
TZOFFSETTO:+0000
TZNAME:GMT
DTSTART:20261025T010000
END:STANDARD
END:VTIMEZONE
BEGIN:VEVENT
DTSTART;TZID=Europe/London:20250327T193000
DTEND;TZID=Europe/London:20250327T193000
DTSTAMP:20260419T061337
CREATED:20250321T104527Z
LAST-MODIFIED:20250404T131506Z
UID:3017-1743103800-1743103800@gaytonparishcouncil.gov.uk
SUMMARY:Parish Council Meeting
DESCRIPTION:This meeting will be held at Gayton Village Hall. Members of the public are welcome to attend; please see the agenda for more details.
URL:https://gaytonparishcouncil.gov.uk/event/parish-council-meeting-23
LOCATION:Village Hall
CATEGORIES:Parish Council Meetings
END:VEVENT
BEGIN:VEVENT
DTSTART;TZID=Europe/London:20250327T193000
DTEND;TZID=Europe/London:20250327T193000
DTSTAMP:20260419T061337
CREATED:20250721T153940Z
LAST-MODIFIED:20250721T153940Z
UID:3269-1743103800-1743103800@gaytonparishcouncil.gov.uk
SUMMARY:Minutes 27.3.2025
DESCRIPTION:This meeting will be held at Gayton Village Hall. Members of the public are welcome to attend; please see the agenda for more details.
URL:https://gaytonparishcouncil.gov.uk/event/minutes-27-3-2025
LOCATION:Village Hall
CATEGORIES:Parish Council Meetings
END:VEVENT
END:VCALENDAR